BEGIN:VCALENDAR
VERSION:2.0
CALSCALE:GREGORIAN
PRODID:-//MyApp//Calendar 1.0//EN
BEGIN:VEVENT
METHOD:PUBLISH
UID:65531@regionalniportaly.cz
DTSTAMP:20260422T002254Z
DTSTART;VALUE=DATE:20260520
DTEND;VALUE=DATE:20260521
SUMMARY:Cimbal Brothers
DESCRIPTION:
LOCATION:Mělník
END:VEVENT
END:VCALENDAR